BEGIN:VCALENDAR
VERSION:2.0
PRODID:-//ChamberMaster//Event Calendar 2.0//EN
METHOD:PUBLISH
X-PUBLISHED-TTL:P3D
REFRESH-INTERVAL:P3D
CALSCALE:GREGORIAN
BEGIN:VEVENT
DTSTART:20201008T170000Z
DTEND:20201008T180000Z
X-MICROSOFT-CDO-ALLDAYEVENT:FALSE
SUMMARY:180 Skills Informational Webinar
DESCRIPTION:Free\, online licenses are available to Connecticut manufacturers to help grow and retain their workforce as part the Ct Back to Work initiative.\n\nLearn how to access the 180 Skills' library of over 700 manufacturing skills courses and learning pathways selected for SMA companies.\n\nPlease join SMA\, the Connecticut Center for Advanced Technology (CCAT)\, and 180 Skills for a two hour working session to learn how to access and use the 180 Skills manufacturing skills course library.\n\n\n\n \n\n\n\n\n\nThe objective of the webinar is to ensure attendees understand:\n\n\n	\n	How to navigate the 180 Skills course library\n	\n	\n	How to use the system to create and enroll your employees\n	\n	\n	How to organize the skills courses for your unique training needs\n	\n	\n	How to use the reporting engine to monitor your employees training progress
X-ALT-DESC;FMTTYPE=text/html:<div class="page" style="caret-color: rgb(0\, 0\, 0)\; color: rgb(0\, 0\, 0)\;" title="Page 1">\n<div class="section">\n<div class="layoutArea">\n<div class="column">\n<p><span style="font-size:12px\;"><span style="font-family: ArialMT\; color: rgb(51\, 51\, 51)\;">Free\, online licenses are available to Connecticut manufacturers to help grow and retain their workforce as part the Ct Back to Work initiative.</span></span></p>\n\n<p><span style="font-size:12px\;"><span style="font-family: ArialMT\; color: rgb(51\, 51\, 51)\;">Learn how to access the&nbsp\;</span><span style="font-family: TimesNewRomanPSMT\; color: rgb(51\, 51\, 51)\;">180&nbsp\;</span><span style="font-family: TimesNewRomanPSMT\; color: rgb(51\, 51\, 51)\;">S</span><span style="font-family: TimesNewRomanPSMT\; color: rgb(51\, 51\, 51)\;">k</span><span style="font-family: TimesNewRomanPSMT\; color: rgb(51\, 51\, 51)\;">ill</span><span style="font-family: TimesNewRomanPSMT\; color: rgb(51\, 51\, 51)\;">s</span><span style="font-family: TimesNewRomanPSMT\; color: rgb(51\, 51\, 51)\;">&rsquo\;&nbsp\;</span><span style="font-family: TimesNewRomanPSMT\; color: rgb(51\, 51\, 51)\;">li</span><span style="font-family: TimesNewRomanPSMT\; color: rgb(51\, 51\, 51)\;">brary of over 700&nbsp\;</span><span style="font-family: ArialMT\; color: rgb(51\, 51\, 51)\;">manufacturing skills courses and learning pathways selected for SMA companies.</span></span></p>\n\n<p><span style="font-size:12px\;"><span style="font-family: ArialMT\; color: rgb(51\, 51\, 51)\;">Please join SMA\, the Connecticut Center for Advanced Technology (CCAT)\, and 180 Skills for a two hour working session to learn how to access and use the 180 Skills manufacturing skills course library.</span></span><br />\n<br />\n&nbsp\;</p>\n\n<div class="page" style="caret-color: rgb(0\, 0\, 0)\; color: rgb(0\, 0\, 0)\;" title="Page 1">\n<div class="section">\n<div class="layoutArea">\n<div class="column">\n<p><span style="font-size:12px\;"><span style="font-family: ArialMT\; color: rgb(51\, 51\, 51)\;">The objective of the webinar is to ensure attendees understand:</span></span></p>\n\n<ul>\n	<li style="font-size: 11pt\; font-family: TimesNewRomanPSMT\; color: rgb(51\, 51\, 51)\;">\n	<p><span style="font-size:12px\;"><span style="font-family: ArialMT\;">How to navigate the 180 Skills course library</span></span></p>\n	</li>\n	<li style="font-size: 11pt\; font-family: TimesNewRomanPSMT\; color: rgb(51\, 51\, 51)\;">\n	<p><span style="font-size:12px\;"><span style="font-family: ArialMT\;">How to use the system to create and enroll your employees</span></span></p>\n	</li>\n	<li style="font-size: 11pt\; font-family: TimesNewRomanPSMT\; color: rgb(51\, 51\, 51)\;">\n	<p><span style="font-size:12px\;"><span style="font-family: ArialMT\;">How to organize the skills courses for your unique training needs</span></span></p>\n	</li>\n	<li style="font-size: 11pt\; font-family: TimesNewRomanPSMT\; color: rgb(51\, 51\, 51)\;">\n	<p><span style="font-size:12px\;"><span style="font-family: ArialMT\;">How to use the reporting engine to monitor your employees training progress</span></span></p>\n\n	<div>&nbsp\;</div>\n	</li>\n</ul>\n</div>\n</div>\n</div>\n</div>\n</div>\n</div>\n</div>\n</div>\n
LOCATION:Session to be held: Online
UID:e.9268.95
SEQUENCE:3
DTSTAMP:20260419T213616Z
URL:http://smact.memberzone.com/events/details/180-skills-informational-webinar-95
END:VEVENT

END:VCALENDAR
