BEGIN:VCALENDAR
VERSION:2.0
PRODID:-//ChamberMaster//Event Calendar 2.0//EN
METHOD:PUBLISH
X-PUBLISHED-TTL:P3D
REFRESH-INTERVAL:P3D
CALSCALE:GREGORIAN
BEGIN:VEVENT
DTSTART;VALUE=DATE:20200929
DTEND;VALUE=DATE:20200930
TRANSP:TRANSPARENT
X-MICROSOFT-CDO-ALLDAYEVENT:TRUE
SUMMARY:Annual Golf Outing
DESCRIPTION:Annual Golf Outing\n\nThe SMA's Largest Fundraiser
X-ALT-DESC;FMTTYPE=text/html:Annual Golf&nbsp\;Outing<br />\nThe SMA&#39\;s&nbsp\;Largest Fundraiser
LOCATION:The Country Club of Waterbury Oronoke Road Waterbury\, Connecticut
UID:e.9268.93
SEQUENCE:3
DTSTAMP:20260420T012141Z
URL:http://smact.memberzone.com/events/details/annual-golf-outing-93
END:VEVENT

END:VCALENDAR
