BEGIN:VCALENDAR
VERSION:2.0
PRODID:-//ChamberMaster//Event Calendar 2.0//EN
METHOD:PUBLISH
X-PUBLISHED-TTL:P3D
REFRESH-INTERVAL:P3D
CALSCALE:GREGORIAN
BEGIN:VEVENT
DTSTART:20170515T210000Z
DTEND:20170516T000000Z
X-MICROSOFT-CDO-ALLDAYEVENT:FALSE
SUMMARY:Annual Meeting 2017
DESCRIPTION:SMA Annual Meeting & Officer Installation\n\nStudent of the Year Awards\n\nSMA Scholarship Awards\n\nKeynote Speaker - Ethan Ruby\, Theraplant
X-ALT-DESC;FMTTYPE=text/html:SMA Annual Meeting &amp\; Officer Installation<br />\nStudent of the Year Awards<br />\nSMA Scholarship Awards<br />\nKeynote Speaker - Ethan Ruby\, Theraplant
LOCATION:Watertown Golf Club 246 Guernesytown Road Watertown\, CT 06795 860-274-5486
UID:e.9268.32
SEQUENCE:3
DTSTAMP:20260424T204001Z
URL:http://smact.memberzone.com/events/details/annual-meeting-2017-32
END:VEVENT

END:VCALENDAR
