BEGIN:VCALENDAR
VERSION:2.0
PRODID:-//ChamberMaster//Event Calendar 2.0//EN
METHOD:PUBLISH
X-PUBLISHED-TTL:P3D
REFRESH-INTERVAL:P3D
CALSCALE:GREGORIAN
BEGIN:VEVENT
DTSTART:20180514T210000Z
DTEND:20180515T000000Z
X-MICROSOFT-CDO-ALLDAYEVENT:FALSE
SUMMARY:Annual Meeting & Officer Installation
DESCRIPTION:SMA Annual Meeting and Officer Installation\n\nKeynote Speaker: Allison Grealis\, Founder of Women in Manufacturing and VP of Precision Metalforming Association.\n\nSMA Scholarship awards given by Connecticut Community Foundation\n\nStudent of the Year Awards for Oliver Wolcott\, Kaynor and WilcoxTechnical HS & NVCC AMTC program\n\n\n\n2018-2019 Swearing in of Board of Directors\n\nPresident : Ron Turmel\, H&T Waterbury Inc.\n\nVice President: Sabrina Beck\, Altek Electronics\n\nSecretary/Treasurer: Nancy Traver\, Traver IDC
X-ALT-DESC;FMTTYPE=text/html:SMA Annual Meeting and Officer Installation<br />\nKeynote Speaker: Allison Grealis\, Founder of Women in Manufacturing and VP of Precision Metalforming&nbsp\;Association.<br />\nSMA Scholarship awards given by Connecticut Community Foundation<br />\nStudent of the Year Awards for Oliver Wolcott\, Kaynor and WilcoxTechnical HS &amp\; NVCC AMTC program<br />\n<br />\n<u>2018-2019 Swearing in of Board of Directors</u><br />\nPresident : Ron Turmel\, H&amp\;T Waterbury Inc.<br />\nVice President: Sabrina Beck\, Altek Electronics<br />\nSecretary/Treasurer: Nancy Traver\, Traver&nbsp\;IDC
LOCATION:Watertown Golf Club Guernseytown Road\, Watertown
UID:e.9268.56
SEQUENCE:3
DTSTAMP:20260422T100132Z
URL:http://smact.memberzone.com/events/details/annual-meeting-officer-installation-56
END:VEVENT

END:VCALENDAR
