BEGIN:VCALENDAR
VERSION:2.0
PRODID:-//ChamberMaster//Event Calendar 2.0//EN
METHOD:PUBLISH
X-PUBLISHED-TTL:P3D
REFRESH-INTERVAL:P3D
CALSCALE:GREGORIAN
BEGIN:VEVENT
DTSTART:20190513T210000Z
DTEND:20190514T000000Z
X-MICROSOFT-CDO-ALLDAYEVENT:FALSE
SUMMARY:Annual Meeting & Officer Installation
DESCRIPTION:SMA Annual Meeting and Officer Installation\n\nKeynote Speaker: Max Reiss\, NBC Connecticut Political Reporter and Host of "Face the Facts"\n\nStudents of the Year Awarded\n\nSMA Scholarships Announced\n\nNew Board Members Sworn In\n\nAnnual Report Provided
X-ALT-DESC;FMTTYPE=text/html:SMA Annual Meeting and Officer Installation<br />\nKeynote Speaker: Max Reiss\, NBC Connecticut Political Reporter and Host of &quot\;Face the Facts&quot\;<br />\nStudents of the Year Awarded<br />\nSMA Scholarships Announced<br />\nNew Board Members Sworn In<br />\nAnnual Report Provided
LOCATION:Watertown Golf Club 246 Guernseytown Road Watertown\, CT 06795
UID:e.9268.69
SEQUENCE:3
DTSTAMP:20260421T080354Z
URL:http://smact.memberzone.com/events/details/annual-meeting-officer-installation-69
END:VEVENT

END:VCALENDAR
