BEGIN:VCALENDAR
VERSION:2.0
PRODID:-//ChamberMaster//Event Calendar 2.0//EN
METHOD:PUBLISH
X-PUBLISHED-TTL:P3D
REFRESH-INTERVAL:P3D
CALSCALE:GREGORIAN
BEGIN:VEVENT
DTSTART:20160307T223000Z
DTEND:20160308T010000Z
X-MICROSOFT-CDO-ALLDAYEVENT:FALSE
SUMMARY:Board of Directors Meeting
DESCRIPTION:Monthly Board of Directors Meeting
X-ALT-DESC;FMTTYPE=text/html:Monthly Board of Directors Meeting
LOCATION:Roma Ristorante
UID:e.9268.17
SEQUENCE:3
DTSTAMP:20260426T010751Z
URL:http://smact.memberzone.com/events/details/board-of-directors-meeting-03-07-2016-17
END:VEVENT

END:VCALENDAR
