BEGIN:VCALENDAR
VERSION:2.0
PRODID:-//ChamberMaster//Event Calendar 2.0//EN
METHOD:PUBLISH
X-PUBLISHED-TTL:P3D
REFRESH-INTERVAL:P3D
CALSCALE:GREGORIAN
BEGIN:VEVENT
DTSTART:20170308T133000Z
DTEND:20170308T183000Z
X-MICROSOFT-CDO-ALLDAYEVENT:FALSE
SUMMARY:CT Business Day - Bus to Capitol
DESCRIPTION:Take the Bus with US!  Connecticut Business Day at the Capitol.\n\nIncludes breakfast and lunch with local legislators.\n\nNO COST!
X-ALT-DESC;FMTTYPE=text/html:Take the Bus with US! &nbsp\;Connecticut Business Day at the Capitol.<br />\nIncludes breakfast and lunch with local legislators.<br />\nNO COST!
LOCATION:Bus leaves Brass Mill Center (Sears Auto) at 8:30 am\, returns to sam location at 1:30.
UID:e.9268.45
SEQUENCE:3
DTSTAMP:20260425T012753Z
URL:http://smact.memberzone.com/events/details/ct-business-day-bus-to-capitol-45
END:VEVENT

END:VCALENDAR
