BEGIN:VCALENDAR
VERSION:2.0
PRODID:-//ChamberMaster//Event Calendar 2.0//EN
METHOD:PUBLISH
X-PUBLISHED-TTL:P3D
REFRESH-INTERVAL:P3D
CALSCALE:GREGORIAN
BEGIN:VEVENT
DTSTART:20191118T223000Z
DTEND:20191119T010000Z
X-MICROSOFT-CDO-ALLDAYEVENT:FALSE
SUMMARY:EV Market - On The Charge!
DESCRIPTION:SMA Monthly dinner meeting\n\nMeet CT's Chief Manufacturing Officer (CMO) Colin Cooper\n\nTopic: The expanding market of Electric Vehicles (EV Market)\n\nSpeaker: William Shannon\n\nKeri Lamontagne to share details on MIF-DOL Apprenticeship Program\n\nStudents of the Month from Oliver Wolcott Tech and NVCC AMTC manufacturing programs
X-ALT-DESC;FMTTYPE=text/html:SMA Monthly dinner meeting<br />\nMeet CT&#39\;s Chief Manufacturing Officer (CMO) Colin Cooper<br />\nTopic: The expanding market of Electric Vehicles (EV Market)<br />\nSpeaker: William Shannon<br />\nKeri Lamontagne to share details on MIF-DOL Apprenticeship Program<br />\nStudents of the Month from Oliver Wolcott Tech and NVCC AMTC manufacturing programs
LOCATION:Watertown Golf Club
UID:e.9268.81
SEQUENCE:3
DTSTAMP:20260420T205241Z
URL:http://smact.memberzone.com/events/details/ev-market-on-the-charge-81
END:VEVENT

END:VCALENDAR
