BEGIN:VCALENDAR
VERSION:2.0
PRODID:-//ChamberMaster//Event Calendar 2.0//EN
METHOD:PUBLISH
X-PUBLISHED-TTL:P3D
REFRESH-INTERVAL:P3D
CALSCALE:GREGORIAN
BEGIN:VEVENT
DTSTART:20170223T223000Z
DTEND:20170224T010000Z
X-MICROSOFT-CDO-ALLDAYEVENT:FALSE
SUMMARY:General Meeting
DESCRIPTION:Joint meeting with SMA & NESMA\n\nKeynote Speaker- Mary Ann Bartels presenting "A Transforming World"\n\nSponsored Speaker by Green Wealth Management
X-ALT-DESC;FMTTYPE=text/html:Joint meeting with SMA &amp\; NESMA<br />\nKeynote Speaker- Mary Ann Bartels presenting&nbsp\;&quot\;A Transforming World&quot\;<br />\nSponsored Speaker by Green Wealth Management
LOCATION:Doubletree by Hilton 42 Century Drive\, Bristol
UID:e.9268.30
SEQUENCE:3
DTSTAMP:20260425T030651Z
URL:http://smact.memberzone.com/events/details/general-meeting-02-20-2017-30
END:VEVENT

END:VCALENDAR
