BEGIN:VCALENDAR
VERSION:2.0
PRODID:-//ChamberMaster//Event Calendar 2.0//EN
METHOD:PUBLISH
X-PUBLISHED-TTL:P3D
REFRESH-INTERVAL:P3D
CALSCALE:GREGORIAN
BEGIN:VEVENT
DTSTART:20170320T213000Z
DTEND:20170321T000000Z
X-MICROSOFT-CDO-ALLDAYEVENT:FALSE
SUMMARY:General Meeting
DESCRIPTION:Annual Education Meeting\n\nGuest Speaker: Department of Labor Commissioner\, Scott Jackson\n\nPrograms and funding for Small Manufacturers
X-ALT-DESC;FMTTYPE=text/html:Annual Education Meeting<br />\nGuest Speaker: Department of Labor Commissioner\, Scott Jackson<br />\nPrograms and funding&nbsp\;for Small Manufacturers
LOCATION:W.F. Kaynor Technical High School 43 Tompkins Street Waterbury CT 06708
UID:e.9268.31
SEQUENCE:3
DTSTAMP:20260425T011852Z
URL:http://smact.memberzone.com/events/details/general-meeting-03-20-2017-31
END:VEVENT

END:VCALENDAR
