BEGIN:VCALENDAR
VERSION:2.0
PRODID:-//ChamberMaster//Event Calendar 2.0//EN
METHOD:PUBLISH
X-PUBLISHED-TTL:P3D
REFRESH-INTERVAL:P3D
CALSCALE:GREGORIAN
BEGIN:VEVENT
DTSTART:20160321T213000Z
DTEND:20160322T000000Z
X-MICROSOFT-CDO-ALLDAYEVENT:FALSE
SUMMARY:General Meeting
DESCRIPTION:March General Meeting\n\nTopic: Annual Education Meeting - "The Manufacturing Student Experience"\n\nGuest Speaker: Larry Pomerleau\, Department Head\, Precision Machining
X-ALT-DESC;FMTTYPE=text/html:March General Meeting<br />\nTopic: Annual Education Meeting - &quot\;The Manufacturing Student Experience&quot\;<br />\nGuest Speaker: Larry Pomerleau\, Department Head\, Precision Machining<br />\n&nbsp\;
LOCATION:Oliver Wolcott Technical School 75 Oliver Street Torrington\, CT 06790
UID:e.9268.9
SEQUENCE:3
DTSTAMP:20260426T010530Z
URL:http://smact.memberzone.com/events/details/general-meeting-03-21-2016-9
END:VEVENT

END:VCALENDAR
