BEGIN:VCALENDAR
VERSION:2.0
PRODID:-//ChamberMaster//Event Calendar 2.0//EN
METHOD:PUBLISH
X-PUBLISHED-TTL:P3D
REFRESH-INTERVAL:P3D
CALSCALE:GREGORIAN
BEGIN:VEVENT
DTSTART:20160418T213000Z
DTEND:20160419T000000Z
X-MICROSOFT-CDO-ALLDAYEVENT:FALSE
SUMMARY:General Meeting
DESCRIPTION:General Meeting\n\nTopic: Non-Manufacturing Tabletop and Trivia game night hosted by WhatTrivia!
X-ALT-DESC;FMTTYPE=text/html:General Meeting<br />\nTopic: Non-Manufacturing Tabletop and Trivia game night hosted by WhatTrivia!<br />\n&nbsp\;
LOCATION:Watertown Golf Club 246 Guernseytown Rd. Watertown No cost table reservations for Non-manufacturing members but contact Cyndi@sma-ct.com to reserve your spot. Spaces are limited.
UID:e.9268.10
SEQUENCE:3
DTSTAMP:20260425T232147Z
URL:http://smact.memberzone.com/events/details/general-meeting-04-18-2016-10
END:VEVENT

END:VCALENDAR
