BEGIN:VCALENDAR
VERSION:2.0
PRODID:-//ChamberMaster//Event Calendar 2.0//EN
METHOD:PUBLISH
X-PUBLISHED-TTL:P3D
REFRESH-INTERVAL:P3D
CALSCALE:GREGORIAN
BEGIN:VEVENT
DTSTART:20161017T213000Z
DTEND:20161018T000000Z
X-MICROSOFT-CDO-ALLDAYEVENT:FALSE
SUMMARY:General Meeting
DESCRIPTION:Manufacturing Month Meeting with Don Balducci\, Director of CT Center for Advanced Technology (CCAT)\n\nMelissa Biggs\, Esq. CASM Lobbyist \, DePino\, Nunez & Biggs
X-ALT-DESC;FMTTYPE=text/html:Manufacturing Month Meeting with Don Balducci\, Director of CT Center for Advanced Technology (CCAT)<br />\nMelissa Biggs\, Esq. CASM Lobbyist \, DePino\, Nunez &amp\; Biggs
LOCATION:Watertown Golf Club Watertown\, CT
UID:e.9268.26
SEQUENCE:3
DTSTAMP:20260425T134025Z
URL:http://smact.memberzone.com/events/details/general-meeting-10-17-2016-26
END:VEVENT

END:VCALENDAR
