BEGIN:VCALENDAR
VERSION:2.0
PRODID:-//ChamberMaster//Event Calendar 2.0//EN
METHOD:PUBLISH
X-PUBLISHED-TTL:P3D
REFRESH-INTERVAL:P3D
CALSCALE:GREGORIAN
BEGIN:VEVENT
DTSTART:20161114T223000Z
DTEND:20161115T010000Z
X-MICROSOFT-CDO-ALLDAYEVENT:FALSE
SUMMARY:General Meeting
DESCRIPTION:Yankee Institute for Public Policy presents on Connecticut Can Work program\n\nKaynor Tech HS Student(s) of the Month honored
X-ALT-DESC;FMTTYPE=text/html:Yankee Institute for Public Policy presents on Connecticut Can Work program<br />\nKaynor Tech HS Student(s) of the Month honored
LOCATION:Watertown Golf Club Watertown CT
UID:e.9268.27
SEQUENCE:3
DTSTAMP:20260425T134021Z
URL:http://smact.memberzone.com/events/details/general-meeting-11-21-2016-27
END:VEVENT

END:VCALENDAR
