BEGIN:VCALENDAR
VERSION:2.0
PRODID:-//ChamberMaster//Event Calendar 2.0//EN
METHOD:PUBLISH
X-PUBLISHED-TTL:P3D
REFRESH-INTERVAL:P3D
CALSCALE:GREGORIAN
BEGIN:VEVENT
DTSTART:20170417T213000Z
DTEND:20170418T000000Z
X-MICROSOFT-CDO-ALLDAYEVENT:FALSE
SUMMARY:general Meeting
DESCRIPTION:April General Meeting\n\nFinancial Cyber Fraud and Identity Theft\n\nSpeaker: Detective Mark Solomon\, Town of Greenwich\, President of CT Chapter of International Assoc. of Financial Crime Investigators\n\nStudents of the Month for NVCC AMTC
X-ALT-DESC;FMTTYPE=text/html:April General Meeting<br />\nFinancial&nbsp\;Cyber Fraud and Identity Theft<br />\nSpeaker: Detective Mark Solomon\, Town of Greenwich\, President of CT Chapter of International Assoc. of Financial Crime Investigators<br />\nStudents of the Month for NVCC AMTC
LOCATION:Watertown Golf Club Guernseytown Road\, Watertown
UID:e.9268.46
SEQUENCE:3
DTSTAMP:20260424T221550Z
URL:http://smact.memberzone.com/events/details/general-meeting-46
END:VEVENT

END:VCALENDAR
