BEGIN:VCALENDAR
VERSION:2.0
PRODID:-//ChamberMaster//Event Calendar 2.0//EN
METHOD:PUBLISH
X-PUBLISHED-TTL:P3D
REFRESH-INTERVAL:P3D
CALSCALE:GREGORIAN
BEGIN:VEVENT
DTSTART:20171016T213000Z
DTEND:20171017T000000Z
X-MICROSOFT-CDO-ALLDAYEVENT:FALSE
SUMMARY:General Meeting
DESCRIPTION:October is Manufacturing Month\n\nGuest Speaker: Bruce Linton\, Executive Director\, NE FIRST Robotics\n\nLocal schools robotics teams to display. Confirmed attendance by:\n\nWilby Electrathon Car\n\nWatertown Robotics\n\n\n\n Highlights: Kaynor Technical HS Students of the Month honored\n\n\n\nElectric Car on display outside venue
X-ALT-DESC;FMTTYPE=text/html:October is Manufacturing Month<br />\nGuest Speaker: Bruce Linton\, Executive Director\, NE&nbsp\;FIRST Robotics<br />\nLocal schools robotics teams to display. Confirmed attendance by:<br />\nWilby Electrathon&nbsp\;Car<br />\nWatertown Robotics<br />\n<br />\n&#8203\;Highlights:&nbsp\;Kaynor Technical HS Students of the Month honored<br />\n<br />\nElectric Car on display outside venue
LOCATION:Grand Oak Villa 550 Sylvan Lake Road Oakville\, CT 06779
UID:e.9268.50
SEQUENCE:3
DTSTAMP:20260424T140607Z
URL:http://smact.memberzone.com/events/details/general-meeting-50
END:VEVENT

END:VCALENDAR
