BEGIN:VCALENDAR
VERSION:2.0
PRODID:-//ChamberMaster//Event Calendar 2.0//EN
METHOD:PUBLISH
X-PUBLISHED-TTL:P3D
REFRESH-INTERVAL:P3D
CALSCALE:GREGORIAN
BEGIN:VEVENT
DTSTART:20171113T223000Z
DTEND:20171114T010000Z
X-MICROSOFT-CDO-ALLDAYEVENT:FALSE
SUMMARY:General Meeting
DESCRIPTION:Equifax Breach and Fraud Protection for Businesses and Individuals.\n\nPanel presentation brought to you by Wells Fargo Bank
X-ALT-DESC;FMTTYPE=text/html:Equifax Breach and Fraud Protection for Businesses and Individuals.<br />\nPanel presentation brought to you by Wells Fargo Bank&nbsp\;&nbsp\;&nbsp\;&nbsp\;&nbsp\;
LOCATION:Watertown Golf Club Watertown\, CT Italian Themed Dinner Service with Specialty Cocktail
UID:e.9268.51
SEQUENCE:3
DTSTAMP:20260422T223519Z
URL:http://smact.memberzone.com/events/details/general-meeting-51
END:VEVENT

END:VCALENDAR
