BEGIN:VCALENDAR
VERSION:2.0
PRODID:-//ChamberMaster//Event Calendar 2.0//EN
METHOD:PUBLISH
X-PUBLISHED-TTL:P3D
REFRESH-INTERVAL:P3D
CALSCALE:GREGORIAN
BEGIN:VEVENT
DTSTART:20180319T213000Z
DTEND:20180320T000000Z
X-MICROSOFT-CDO-ALLDAYEVENT:FALSE
SUMMARY:General Meeting
DESCRIPTION:Speaker & Program: Gail Kulas\, Leading to Unlock\n\nLEGO Serious Play program\n\nHonor students from Oliver Wolcott Technical HS Precision Machining Program
X-ALT-DESC;FMTTYPE=text/html:Speaker &amp\; Program: Gail Kulas\, Leading to Unlock<br />\nLEGO Serious Play program<br />\nHonor students from Oliver Wolcott Technical HS Precision Machining Program
LOCATION:Watertown Golf Club 246 Guernseytown Road Watertown\, CT 06795
UID:e.9268.54
SEQUENCE:3
DTSTAMP:20260422T114110Z
URL:http://smact.memberzone.com/events/details/general-meeting-54
END:VEVENT

END:VCALENDAR
