BEGIN:VCALENDAR
VERSION:2.0
PRODID:-//ChamberMaster//Event Calendar 2.0//EN
METHOD:PUBLISH
X-PUBLISHED-TTL:P3D
REFRESH-INTERVAL:P3D
CALSCALE:GREGORIAN
BEGIN:VEVENT
DTSTART:20190912T213000Z
DTEND:20190912T233000Z
X-MICROSOFT-CDO-ALLDAYEVENT:FALSE
SUMMARY:General Meeting - Kick off Event
DESCRIPTION:SMA Kick Off Event\n\nThe SMA announces a company tour of STIHL Northeast Distribution in Oxford.\n\nGuests invited Oxford First Selectman\, Senator Eric Berthel\n\nTours hosted by Casey McGrath\, Director of Branch Operations\n\nLimited ticket availability\, register early.
X-ALT-DESC;FMTTYPE=text/html:SMA Kick Off Event<br />\nThe SMA announces a company tour of STIHL Northeast Distribution in Oxford.<br />\nGuests invited Oxford First Selectman\, Senator Eric Berthel<br />\nTours hosted by Casey McGrath\, Director of Branch Operations<br />\nLimited ticket availability\, register early.<br />\n&nbsp\;
LOCATION:STIHL Northeast Distribution Center Oxford CT
UID:e.9268.77
SEQUENCE:3
DTSTAMP:20260421T004957Z
URL:http://smact.memberzone.com/events/details/general-meeting-kick-off-event-77
END:VEVENT

END:VCALENDAR
