BEGIN:VCALENDAR
VERSION:2.0
PRODID:-//ChamberMaster//Event Calendar 2.0//EN
METHOD:PUBLISH
X-PUBLISHED-TTL:P3D
REFRESH-INTERVAL:P3D
CALSCALE:GREGORIAN
BEGIN:VEVENT
DTSTART:20171211T223000Z
DTEND:20171212T010000Z
X-MICROSOFT-CDO-ALLDAYEVENT:FALSE
SUMMARY:Holiday Party & Past President's Night
DESCRIPTION:Holiday Party honoring Past Presidents\n\nBuffet offerings by Bourassa Catering\, Open bar\n\nNetworking and Social Event\n\nSponsorships available.
X-ALT-DESC;FMTTYPE=text/html:Holiday Party honoring Past Presidents<br />\nBuffet&nbsp\;offerings by Bourassa&nbsp\;Catering\, Open bar<br />\nNetworking and Social Event<br />\nSponsorships available.
LOCATION:Palace Theater East Main Street Waterbury\, Connecticut
UID:e.9268.52
SEQUENCE:3
DTSTAMP:20260422T193633Z
URL:http://smact.memberzone.com/events/details/holiday-party-past-president-s-night-52
END:VEVENT

END:VCALENDAR
