BEGIN:VCALENDAR
VERSION:2.0
PRODID:-//ChamberMaster//Event Calendar 2.0//EN
METHOD:PUBLISH
X-PUBLISHED-TTL:P3D
REFRESH-INTERVAL:P3D
CALSCALE:GREGORIAN
BEGIN:VEVENT
DTSTART:20190415T213000Z
DTEND:20190416T000000Z
X-MICROSOFT-CDO-ALLDAYEVENT:FALSE
SUMMARY:Introducing METALFORM EDU\, SMA & PMA joint event
DESCRIPTION:The SMA  is excited to join the PMA to offer a Joint Education Event for all our members.\n\nJoin Us in welcoming Erin Riffle\, Workforce Development & METALFORM EDU lead at PMA.\n\nShe will discuss the new METALFORM EDU platform created to shape the next generation of skilled workers. A one stop shop for all training needs - Designed with the metal forming industry in mind\, this platform will have everything you need online for a flexible\, low cost training program with over 550 courses in its library.
X-ALT-DESC;FMTTYPE=text/html:The SMA &nbsp\;is excited to join the PMA to offer a Joint Education Event for all our members.<br />\nJoin Us in welcoming Erin Riffle\, Workforce Development &amp\; METALFORM EDU lead at PMA.<br />\nShe will discuss the new METALFORM EDU platform created to shape the next generation of skilled workers. A one stop shop for all training needs - Designed with the metal forming industry in mind\, this platform will have everything you need online for a flexible\, low cost training program with over 550 courses in its library.<br />\n&nbsp\;
LOCATION:LaBella Vista\, 380 Farm Road\, Waterbury Full dinner service included in event cost.
UID:e.9268.68
SEQUENCE:3
DTSTAMP:20260421T092553Z
URL:http://smact.memberzone.com/events/details/introducing-metalform-edu-sma-pma-joint-event-68
END:VEVENT

END:VCALENDAR
