BEGIN:VCALENDAR
VERSION:2.0
PRODID:-//ChamberMaster//Event Calendar 2.0//EN
METHOD:PUBLISH
X-PUBLISHED-TTL:P3D
REFRESH-INTERVAL:P3D
CALSCALE:GREGORIAN
BEGIN:VEVENT
DTSTART:20180917T213000Z
DTEND:20180917T233000Z
X-MICROSOFT-CDO-ALLDAYEVENT:FALSE
SUMMARY:Kick-off Meeting @ Black Hog Brewing
DESCRIPTION:SMA Kick-Off Meeting\, Networking and new member welcome party!\n\nSpecial guest: Joe Markley\, Republican nominee for Lt. Governor\n\n\n\nBlack Hog Brewing offers craft brews and open tasting room for the SMA event.\n\nPlease join us to meeting the newly installed Board of Directores and Officers.
X-ALT-DESC;FMTTYPE=text/html:SMA Kick-Off Meeting\, Networking and new member welcome party!<br />\nSpecial guest: Joe Markley\, Republican nominee for Lt. Governor<br />\n<br />\nBlack Hog Brewing offers craft brews and open tasting room for the SMA event.<br />\nPlease join us to meeting the newly installed Board of Directores and Officers.<br />\n<br />\n<br />\n&nbsp\;
LOCATION:Black Hog Brewing Tasting Room 115 Hurley Road\, Building 9A Oxford\, CT
UID:e.9268.62
SEQUENCE:3
DTSTAMP:20260422T005600Z
URL:http://smact.memberzone.com/events/details/kick-off-meeting-62
END:VEVENT

END:VCALENDAR
