BEGIN:VCALENDAR
VERSION:2.0
PRODID:-//ChamberMaster//Event Calendar 2.0//EN
METHOD:PUBLISH
X-PUBLISHED-TTL:P3D
REFRESH-INTERVAL:P3D
CALSCALE:GREGORIAN
BEGIN:VEVENT
DTSTART:20191021T213000Z
DTEND:20191022T000000Z
X-MICROSOFT-CDO-ALLDAYEVENT:FALSE
SUMMARY:Monthly Dinner Meeting
DESCRIPTION:Topic: Situational Awareness and De-Escalation & Verbal Conflict Resolution.\n\nThere comes a time when a company has to make informed decisions on how to handle hostile situations within the workplace.  With this in mind\, the SMA is bringing in Detective Chris Marciano from Prepare to Act to give an indepth presentation on Situational Awareness and De-Escalation & Verbal Conflict Resolution. \n\n\nThe meeting will cover how to handle difficult people in the workplace\, emergency intervention/response time and active shooter situations. This will be an intense but necessary training seminar that should not be missed.\n\n\nSMA Supported schools: Kaynor and Wilcox Techincal High School will be honoring Students of the Month from their Precision Manufacturing Program.  The Student of the Month program is graciously sponsored by: Stewart EFI\, H&T Waterbury Inc.\, Marion Manufacturing\, Demsey Manufacturing\, Resource Development Associates\, Jaci Carroll Staffing and Green Wealth Management
X-ALT-DESC;FMTTYPE=text/html:<div style="caret-color: rgb(0\, 0\, 0)\; color: rgb(0\, 0\, 0)\; font-family: Verdana\, Geneva\, Arial\, Helvetica\, sans-serif\; font-size: 14.666666984558105px\;">\n<div _mce_style="text-align: left\;" align="left"><span style="font-family:arial\;"><span style="font-size:12px\;">Topic:&nbsp\;</span><em style="caret-color: rgb(0\, 0\, 0)\; color: rgb(0\, 0\, 0)\; font-family: Verdana\, Geneva\, Arial\, Helvetica\, sans-serif\; font-size: 12px\; text-decoration: underline\;">Situational Awareness and De-Escalation &amp\; Verbal Conflict Resolution.</em><br />\n<span style="font-size:12px\;">There comes a time when a company has to make informed decisions on how to handle hostile situations within the workplace. &nbsp\;With this in mind\, the SMA is bringing in Detective Chris Marciano from&nbsp\;<a _mce_href="http://www.preparetoact.com" _mce_style="color: blue\; text-decoration: underline\;" href="http://www.preparetoact.com/" linktype="1" style="color: blue !important\;" target="_blank" track="on">Prepare to Act</a>&nbsp\;to give an indepth&nbsp\;presentation on&nbsp\;<span _mce_style="text-decoration: underline\;" style="text-decoration: underline\;">Situational Awareness and De-Escalation &amp\; Verbal Conflict Resolution.&nbsp\;</span></span></span></div>\n</div>\n\n<div _mce_style="text-align: left\;" align="left" style="caret-color: rgb(0\, 0\, 0)\; color: rgb(0\, 0\, 0)\; font-family: Verdana\, Geneva\, Arial\, Helvetica\, sans-serif\; font-size: 14.666666984558105px\;"><span style="font-family:arial\;"><span style="font-size:12px\;">The meeting will cover how to handle difficult people in the workplace\, emergency intervention/response time and active shooter situations. This will be an intense but necessary training seminar that should not be missed.</span></span></div>\n<br />\n<span style="font-family:arial\;">SMA Supported schools: Kaynor and Wilcox Techincal High School will be honoring Students of the Month from their Precision Manufacturing Program. &nbsp\;The Student of the Month program is graciously sponsored by: Stewart EFI\, H&amp\;T Waterbury Inc.\, Marion Manufacturing\, Demsey Manufacturing\, Resource Development Associates\, Jaci Carroll Staffing and Green Wealth Management</span>
LOCATION:Watertown Golf Club
UID:e.9268.79
SEQUENCE:3
DTSTAMP:20260420T224827Z
URL:http://smact.memberzone.com/events/details/monthly-dinner-meeting-79
END:VEVENT

END:VCALENDAR
