BEGIN:VCALENDAR
VERSION:2.0
PRODID:-//ChamberMaster//Event Calendar 2.0//EN
METHOD:PUBLISH
X-PUBLISHED-TTL:P3D
REFRESH-INTERVAL:P3D
CALSCALE:GREGORIAN
BEGIN:VEVENT
DTSTART:20200316T213000Z
DTEND:20200317T000000Z
X-MICROSOFT-CDO-ALLDAYEVENT:FALSE
SUMMARY:POSTPONED - Annual SMA Education Meeting
DESCRIPTION:Annual Education Committee Dinner Meeting featuring keynote speaker Kylee Carbone of Westminster Tool. Kylee will address the SMA members about Westminster Academy training program that they developed "in-house" to fill open positions and educate the community about manufacturing.\n\n\n\nTours of Waterbury Career Academy's Manufacturing Program will be offered before dinner meeting.\n\n\n\nAlso\, Special recognition for a Kaynor student who has found success at Noujaim Tool Co.\, an apprentices that has completed the program and is now a Tool & Die Maker at Anomatic.
X-ALT-DESC;FMTTYPE=text/html:Annual Education Committee Dinner Meeting featuring keynote speaker Kylee Carbone of Westminster Tool. Kylee will address the SMA members about Westminster Academy training program that they developed &quot\;in-house&quot\; to fill open positions and educate the community about manufacturing.<br />\n<br />\nTours of Waterbury Career Academy&#39\;s Manufacturing Program will be offered before dinner meeting.<br />\n<br />\nAlso\, Special recognition for a Kaynor student who has found success at Noujaim Tool Co.\, an apprentices that has completed the program and is now a Tool &amp\; Die Maker at Anomatic. &nbsp\;<br />\n&nbsp\;
LOCATION:Waterbury Career Academy 175 Birch Street Waterbury\, CT 06704
UID:e.9268.89
SEQUENCE:3
DTSTAMP:20260420T115754Z
URL:http://smact.memberzone.com/events/details/postponed-annual-sma-education-meeting-89
END:VEVENT

END:VCALENDAR
