BEGIN:VCALENDAR
VERSION:2.0
PRODID:-//ChamberMaster//Event Calendar 2.0//EN
METHOD:PUBLISH
X-PUBLISHED-TTL:P3D
REFRESH-INTERVAL:P3D
CALSCALE:GREGORIAN
BEGIN:VEVENT
DTSTART;VALUE=DATE:20160809
DTEND;VALUE=DATE:20160810
TRANSP:TRANSPARENT
X-MICROSOFT-CDO-ALLDAYEVENT:TRUE
SUMMARY:SMA Annual Golf Outing
DESCRIPTION:SMA Annual Golf Outing\n\n7:30 am- 2:00 pm tee times available $220 all included\n\nDinner at 6 pm $50 dinner only\n\n\n\nSPONSORSHIPS AVAILABLE
X-ALT-DESC;FMTTYPE=text/html:SMA Annual Golf Outing<br />\n7:30 am- 2:00 pm tee times available $220 all included<br />\nDinner at 6 pm $50 dinner only<br />\n<br />\nSPONSORSHIPS AVAILABLE
LOCATION:The Country Club of Waterbury One Oronoke Road Waterbury\, CT
UID:e.9268.21
SEQUENCE:3
DTSTAMP:20260425T165454Z
URL:http://smact.memberzone.com/events/details/sma-annual-golf-outing-08-09-2016-21
END:VEVENT

END:VCALENDAR
