BEGIN:VCALENDAR
VERSION:2.0
PRODID:-//ChamberMaster//Event Calendar 2.0//EN
METHOD:PUBLISH
X-PUBLISHED-TTL:P3D
REFRESH-INTERVAL:P3D
CALSCALE:GREGORIAN
BEGIN:VEVENT
DTSTART:20221205T223000Z
DTEND:20221206T003000Z
X-MICROSOFT-CDO-ALLDAYEVENT:FALSE
SUMMARY:SMA Holiday Party to Honor the Past Presidents
DESCRIPTION:Join us in honoring the Past Presidents and consider becoming a sponsor!\n\n	Marquee Sponsor\, $750\n	Past President Sponsor\, $500 \n	Bar Sponsor\, $250 \n	Appetizer Sponsor\, $200 \n	Dessert & Coffee Sponsor\, $100 \n	Table Flower Sponsor\, $75\n\nEmail: admin@sma-ct.com to make a sponsorship.
X-ALT-DESC;FMTTYPE=text/html:Join us in honoring the Past Presidents and consider becoming a sponsor!\n<ul>\n	<li>Marquee Sponsor\, $750</li>\n	<li>Past President Sponsor\, $500&nbsp\;</li>\n	<li>Bar Sponsor\, $250&nbsp\;</li>\n	<li>Appetizer Sponsor\, $200&nbsp\;</li>\n	<li>Dessert &amp\; Coffee Sponsor\, $100&nbsp\;</li>\n	<li>Table Flower Sponsor\, $75</li>\n</ul>\nEmail: admin@sma-ct.com to make a sponsorship.&nbsp\;
LOCATION:The Palace Theater
UID:e.9268.128
SEQUENCE:3
DTSTAMP:20260421T091954Z
URL:http://smact.memberzone.com/events/details/sma-holiday-party-to-honor-the-past-presidents-128
END:VEVENT

END:VCALENDAR
