BEGIN:VCALENDAR
VERSION:2.0
PRODID:-//ChamberMaster//Event Calendar 2.0//EN
METHOD:PUBLISH
X-PUBLISHED-TTL:P3D
REFRESH-INTERVAL:P3D
CALSCALE:GREGORIAN
BEGIN:VEVENT
DTSTART:20201106T180000Z
DTEND:20201106T200000Z
X-MICROSOFT-CDO-ALLDAYEVENT:FALSE
SUMMARY:Webinar for State Mandated Sexual Harrassment
DESCRIPTION:Join Carmody Law for a virtual webinar on the State of CT mandated Sexual Harassment training.\n\nCertificate issued at completion of webinar.  Webinar satisfies State of CT requirements
X-ALT-DESC;FMTTYPE=text/html:Join Carmody Law for a virtual webinar on the State of CT mandated Sexual Harassment training.<br />\nCertificate issued at completion of webinar. &nbsp\;Webinar satisfies State of CT requirements
LOCATION:Online webinar
UID:e.9268.96
SEQUENCE:3
DTSTAMP:20260419T194427Z
URL:http://smact.memberzone.com/events/details/webinar-for-state-mandated-sexual-harrassment-96
END:VEVENT

END:VCALENDAR
